BEGIN:VCALENDAR
VERSION:2.0
PRODID:-//wp-events-plugin.com//7.2.3.1//EN
TZID:Europe/Amsterdam
X-WR-TIMEZONE:Europe/Amsterdam
BEGIN:VEVENT
UID:2971@cousteau.nl
DTSTART;TZID=Europe/Amsterdam:20250826T194500
DTEND;TZID=Europe/Amsterdam:20250826T211500
DTSTAMP:20250713T131429Z
URL:https://www.cousteau.nl/events/zomeravond-clubduik-2025-07-01-2025-07-
 08-2025-07-15-2025-07-22-2025-07-29-2025-08-05-2025-08-12-2025-08-19-2025-
 08-26/
SUMMARY:Zomeravond clubduik
DESCRIPTION:In plaats van de zwembadtraining organiseren we in de maanden j
 uli/augustus een zomeravond clubduik.
CATEGORIES:clubduik
LOCATION:Bussloo\, Bussloselaan 5\, Voorst\, Gelderland\, 7383\, Nederland
X-APPLE-STRUCTURED-LOCATION;VALUE=URI;X-ADDRESS=Bussloselaan 5\, Voorst\, G
 elderland\, 7383\, Nederland;X-APPLE-RADIUS=100;X-TITLE=Bussloo:geo:0,0
END:VEVENT
BEGIN:VTIMEZONE
TZID:Europe/Amsterdam
X-LIC-LOCATION:Europe/Amsterdam
BEGIN:DAYLIGHT
DTSTART:20250330T030000
TZOFFSETFROM:+0100
TZOFFSETTO:+0200
TZNAME:CEST
END:DAYLIGHT
END:VTIMEZONE
END:VCALENDAR