BEGIN:VCALENDAR
VERSION:2.0
PRODID:-//wp-events-plugin.com//7.2.3.1//EN
TZID:Europe/Amsterdam
X-WR-TIMEZONE:Europe/Amsterdam
BEGIN:VEVENT
UID:2947@cousteau.nl
DTSTART;TZID=Europe/Amsterdam:20250218T190000
DTEND;TZID=Europe/Amsterdam:20250218T200000
DTSTAMP:20250219T192812Z
URL:https://www.cousteau.nl/events/theorie-2-h3-buddy-hulp-medisch/
SUMMARY:Theorie 2* H3 Buddy hulp - medisch
DESCRIPTION:Instructeur: Simon
CATEGORIES:Theorieles
LOCATION:clubhuis De Kiel\, Nico bolkensteinlaan 2\, Deventer\, Overijssel\
 , 7416 SG\, Nederland
X-APPLE-STRUCTURED-LOCATION;VALUE=URI;X-ADDRESS=Nico bolkensteinlaan 2\, De
 venter\, Overijssel\, 7416 SG\, Nederland;X-APPLE-RADIUS=100;X-TITLE=clubh
 uis De Kiel:geo:0,0
END:VEVENT
BEGIN:VTIMEZONE
TZID:Europe/Amsterdam
X-LIC-LOCATION:Europe/Amsterdam
BEGIN:STANDARD
DTSTART:20241027T020000
TZOFFSETFROM:+0200
TZOFFSETTO:+0100
TZNAME:CET
END:STANDARD
END:VTIMEZONE
END:VCALENDAR