BEGIN:VCALENDAR
VERSION:2.0
PRODID:-//wp-events-plugin.com//7.2.3.1//EN
TZID:Europe/Amsterdam
X-WR-TIMEZONE:Europe/Amsterdam
BEGIN:VEVENT
UID:404@cousteau.nl
DTSTART;TZID=Europe/Amsterdam;VALUE=DATE:20230618
DTEND;TZID=Europe/Amsterdam;VALUE=DATE:20230619
DTSTAMP:20230124T184003Z
URL:https://www.cousteau.nl/events/la-gombe-sprimont/
SUMMARY:LA GOMBE / SPRIMONT
DESCRIPTION:
CATEGORIES:evenement
END:VEVENT
BEGIN:VTIMEZONE
TZID:Europe/Amsterdam
X-LIC-LOCATION:Europe/Amsterdam
BEGIN:DAYLIGHT
DTSTART:20230326T030000
TZOFFSETFROM:+0100
TZOFFSETTO:+0200
TZNAME:CEST
END:DAYLIGHT
END:VTIMEZONE
END:VCALENDAR