BEGIN:VCALENDAR
VERSION:2.0
PRODID:-//wp-events-plugin.com//7.2.3.1//EN
TZID:Europe/Amsterdam
X-WR-TIMEZONE:Europe/Amsterdam
BEGIN:VEVENT
UID:1873@cousteau.nl
DTSTART;TZID=Europe/Amsterdam:20231203T100000
DTEND;TZID=Europe/Amsterdam:20231203T120000
DTSTAMP:20230928T205147Z
URL:https://www.cousteau.nl/events/clubduik-oc-2023-12-03/
SUMMARY:Clubduik OC: Gerrit
DESCRIPTION:
LOCATION:Bussloo\, Bussloselaan 5\, Voorst\, Gelderland\, 7383\, Nederland
X-APPLE-STRUCTURED-LOCATION;VALUE=URI;X-ADDRESS=Bussloselaan 5\, Voorst\, G
 elderland\, 7383\, Nederland;X-APPLE-RADIUS=100;X-TITLE=Bussloo:geo:0,0
END:VEVENT
BEGIN:VTIMEZONE
TZID:Europe/Amsterdam
X-LIC-LOCATION:Europe/Amsterdam
BEGIN:STANDARD
DTSTART:20231029T020000
TZOFFSETFROM:+0200
TZOFFSETTO:+0100
TZNAME:CET
END:STANDARD
END:VTIMEZONE
END:VCALENDAR